Workbook

Sheet 必修
B1: 請勾選修畢之採認課程項目，並填入成績，填妥後請選擇：檔案> 列印> 印表機> Microsoft Print to PDF，儲存成PDF格式檔案。
B2: 電路設計關鍵學能 (必修5門學程科目)
B3: # | C3: 學程科目名稱 | D3: 學程訂定 必/選修 | E3: 採認課程名稱 | F3: 採認課程代碼 | G3: 學分數 | H3: 修畢課程 (打V) | I3: 分數 (百分制) | J3: 開課系/所 | K3: 課程程度 (下拉選單) | L3: 開課學期 (下拉選單)
B4: 1 | C4: 電子學 (數位電路設計) | D4: 必 | E4: 電子學(二) | F4: EE2320 | G4: 3 | J4: 電機工程學系 | K4: 大學部 | L4: 下學期
E5: 電子學(三) | F5: EE3130 | G5: 3 | J5: 電機工程學系 | K5: 大學部 | L5: 上學期
E6: 電子學 | F6: ES2214 | G6: 3 | J6: 工程科學系 | K6: 大學部 | L6: 下學期
E7: 電子電路 | F7: ES2222 | G7: 3 | J7: 工程科學系 | K7: 大學部 | L7: 上學期
E8: 電子學(二) | F8: DSP2002 | G8: 3 | J8: 光電科學與工程學系 | K8: 大學部 | L8: 下學期
E9: 電子學(二) | F9: SNME2312 | G9: 3 | J9: 系統及船舶機電工程學系 | K9: 大學部 | L9: 下學期
E10: 數位電路導論 | F10: CSIE1003 | G10: 3 | J10: 資訊工程學系 | K10: 大學部 | L10: 上學期
C11: 電子學 (電子設計自動化/設計流程) | D11: 必 | E11: 電子學(一) | F11: EE2110 | G11: 3 | J11: 電機工程學系 | K11: 大學部 | L11: 上學期
E12: 電路電子學 | F12: IBPE2104E | G12: 3 | J12: 航空太空工程學系 | K12: 大學部 | L12: 上學期
E13: 電子學(一) | F13: DSP2001 | G13: 3 | J13: 光電科學與工程學系 | K13: 大學部 | L13: 上學期
E14: 電子學(一) | F14: SNME2410 | G14: 3 | J14: 系統及船舶機電工程學系 | K14: 大學部 | L14: 上學期
B15: 2 | C15: 電路學 | D15: 必 | E15: 電路學(一) | F15: EE2310 | G15: 3 | J15: 電機工程學系 | K15: 大學部 | L15: 上學期
E16: 電路學 | F16: DSP1015 | G16: 3 | J16: 光電科學與工程學系 | K16: 大學部 | L16: 下學期
E17: 電子電工學 | F17: MSE2002 | G17: 3 | J17: 材料科學及工程學系 | K17: 大學部 | L17: 上學期 | M17: 上次開課為105學年度
E18: 電子及電工學 | F18: EV2203 | G18: 3 | J18: 環境工程學系 | K18: 大學部 | L18: 下學期
E19: 電子及電工學 | F19: CHE2009 | G19: 3 | J19: 化學工程學系 | K19: 大學部 | L19: 上學期
E20: 電路學(二) | F20: EE2320 | G20: 3 | J20: 電機工程學系 | K20: 大學部 | L20: 下學期
E21: 電路學 | F21: SNME2400 | G21: 3 | J21: 環境工程學系 | K21: 大學部 | L21: 上學期
E22: 電路電子學 | F22: IBPE2104E | G22: 3 | J22: 能源工程國際學位學程 | K22: 大學部 | L22: 上學期
E23: 電路學 | F23: BME2301 | G23: 3 | J23: 生物醫學工程學系 | K23: 大學部 | L23: 上學期
E24: 電路學 | F24: ES2211 | G24: 3 | J24: 工程科學系 | K24: 大學部 | L24: 上學期
E25: 電工學 | F25: ME2600 | G25: 2 | J25: 機械工程學系 | K25: 大學部 | L25: 下學期
B26: 3 | C26: 邏輯設計 | D26: 必 | E26: 邏輯系統 | F26: EE1500 | G26: 3 | J26: 電機工程學系 | K26: 大學部 | L26: 下學期
E27: 數位系統導論 | F27: CSIE1007 | G27: 3 | J27: 資訊工程學系 | K27: 大學部 | L27: 上學期
E28: 邏輯設計 | F28: ES2212 | G28: 3 | J28: 工程科學系 | K28: 大學部 | L28: 下學期
B29: 4 | C29: 積體電路設計導論/ 超大型積體電路設計 | D29: 必 | E29: 數位積體電路設計 | F29: ES7837 | G29: 3 | J29: 工程科學系 | K29: 研究所 | L29: 下學期
E30: 數位通訊之積體電路設計專論 | F30: EE6451 | G30: 3 | J30: 電機工程學系 | K30: 研究所 | L30: 上學期
E31: VLSI系統設計 | F31: EE9612 | G31: 3 | J31: 電機工程學系 | K31: 研究所 | L31: 上學期
E32: VLSI系統設計 | F32: EE5650 | G32: 3 | J32: 電機工程學系 | K32: 大學部 | L32: 上學期
E33: 超大型積體電路電腦輔助設計概論 | F33: EE5600 | G33: 3 | J33: 電機工程學系 | K33: 大學部 | L33: 下學期
E34: 高等VLSI電路設計 | F34: EE7615 | G34: 3 | J34: 電機工程學系 | K34: 研究所 | L34: 上學期 | M34: 久未開課
E35: 超大型積體電路概論 | F35: CSIE7131E | G35: 3 | J35: 資訊工程學系 | K35: 研究所 | L35: 上學期 | M35: 上次開課是103學年度
E36: VLSI電路設計 | F36: EE5670 | G36: 3 | J36: 電機工程學系 | K36: 大學部 | L36: 下學期
B37: 5 | C37: 機率/統計學 | D37: 必 | E37: 機率與統計 | F37: EE2420 | G37: 3 | J37: 電機工程學系 | K37: 大學部 | L37: 上學期
E38: 機率與統計 | F38: CSIE3002 | G38: 3 | J38: 資訊工程學系 | K38: 大學部 | L38: 下學期 | M38: 110開在下學期，但106~109都開在上學期
E39: 機率與統計 | F39: ES3250 | G39: 3 | J39: 工程科學系 | K39: 大學部 | L39: 下學期

Sheet 選修_數位電路設計
B1: 請勾選修畢之採認課程項目，並填入成績，填妥後請選擇：檔案> 列印> 印表機> Microsoft Print to PDF，儲存成PDF格式檔案。
B2: 數位電路設計進階學能 (選修至少3門學程科目)
B3: # | C3: 學程科目名稱 | D3: 學程訂定 必/選修 | E3: 採認課程名稱 | F3: 採認課程代碼 | G3: 學分數 | H3: 修畢課程 (打V) | I3: 分數 (百分制) | J3: 開課系/所 | K3: 課程程度 (下拉選單) | L3: 開課學期 (下拉選單)
B4: 1 | C4: 計算機結構 | D4: 選 | E4: 計算機組織 | F4: EE2510 | G4: 3 | J4: 電機工程學系 | K4: 大學部 | L4: 上學期
E5: 計算機組織 | F5: CSIE2001 | G5: 3 | J5: 資訊工程學系 | K5: 大學部 | L5: 下學期
E6: 計算機結構 | F6: CCE6513 | G6: 3 | J6: 電腦與通信工程研究所 | K6: 研究所 | L6: 上學期 | M6: 上次開課是106學年度
E7: 微算機原理與應用(含實驗) | F7: CSIE3009 | G7: 3 | J7: 資訊工程學系 | K7: 大學部 | L7: 上學期
E8: 計算機組織與組合語言 | F8: ES3322 | G8: 3 | J8: 工程科學系 | K8: 大學部 | L8: 上學期
B9: 2 | C9: 積體電路設計實驗 | D9: 選 | E9: 超大型積體電路電腦輔助設計概論 | F9: EE5600 | G9: 3 | J9: 電機工程學系 | K9: 大學部 | L9: 下學期
E10: 生醫積體電路設計 | F10: EE9712 | G10: 3 | J10: 電機工程學系 | K10: 研究所 | L10: 下學期
B11: 3 | C11: 數位系統設計 | D11: 選 | E11: 編譯系統 | F11: CSIE4008 | G11: 3 | J11: 資訊工程學系 | K11: 大學部 | L11: 下學期
E12: 數位IC設計 | F12: CSIE7019 | G12: 3 | J12: 資訊工程學系 | K12: 研究所 | L12: 上學期 | M12: 上次開課是103學年度
E13: VLSI系統設計 | F13: EE9612 | G13: 3 | J13: 電機工程學系 | K13: 研究所 | L13: 上學期
E14: VLSI系統設計 | F14: EE5650 | G14: 3 | J14: 電機工程學系 | K14: 大學部 | L14: 上學期
E15: 進階數位電路設計專論 | F15: CSIE7057 | G15: 3 | J15: 資訊工程學系 | K15: 研究所 | L15: 上學期
E16: 數位通訊之積體電路設計專論 | F16: EE6451 | G16: 3 | J16: 電機工程學系 | K16: 研究所 | L16: 上學期
B17: 4 | C17: 內嵌式記憶體電路設計 | D17: 選 | E17: 嵌入式系統 | F17: BME3301 | G17: 3 | J17: 生物醫學工程學系 | K17: 大學部 | L17: 下學期
B18: 5 | C18: 超大型積體電路測試 | D18: 選 | E18: 超大型積體電路測試 | F18: EE7631 | G18: 3 | J18: 電機工程學系 | K18: 研究所 | L18: 上學期

Sheet 選修_電子設計自動化+設計流程
B1: 請勾選修畢之採認課程項目，並填入成績，填妥後請選擇：檔案> 列印> 印表機> Microsoft Print to PDF，儲存成PDF格式檔案。
B2: 電子設計自動化/設計流程進階學能 (選修至少3門學程科目)
B3: # | C3: 學程科目名稱 | D3: 學程訂定 必/選修 | E3: 採認課程名稱 | F3: 採認課程代碼 | G3: 學分數 | H3: 修畢課程 (打V) | I3: 分數 (百分制) | J3: 開課系/所 | K3: 課程程度 (下拉選單) | L3: 開課學期 (下拉選單)
B4: 1 | C4: 資料結構 | D4: 選 (三選二) | E4: 資料結構續論 | F4: EE2510 | G4: 3 | J4: 電機工程學系 | K4: 大學部 | L4: 下學期
E5: 資料結構 | F5: CSIE1006 | G5: 3 | J5: 資訊工程學系 | K5: 大學部 | L5: 上學期
E6: 資料結構 | F6: ES2221 | G6: 3 | J6: 工程科學系 | K6: 大學部 | L6: 上學期
B7: 2 | C7: 演算法 | E7: 演算法 | F7: CSIE3003 | G7: 3 | J7: 資訊工程學系 | K7: 大學部 | L7: 下學期
E8: 高等演算法 | F8: CSIE4012 | G8: 3 | J8: 資訊工程學系 | K8: 大學部 | L8: 下學期 | M8: 上次開課為100學年度
E9: 高等計算機演算理論 | F9: CCE9533 | G9: 3 | J9: 電腦與通信工程研究所 | K9: 研究所 | L9: 上學期 | M9: 上次開課為107學年度
E10: 進階演算法 | F10: CSIE6809 | G10: 3 | J10: 電機工程學系 | K10: 研究所 | L10: 下學期
E11: 計算機演算法 | F11: ES3420 | G11: 3 | J11: 工程科學系 | K11: 大學部 | L11: 上學期 | M11: 上次開課為108學年度
B12: 3 | C12: 計算機結構 | E12: 微算機原理與應用(含實驗) | F12: CSIE3009 | G12: 3 | J12: 資訊工程學系 | K12: 大學部 | L12: 上學期
E13: 計算機組織 | F13: EE2510 | G13: 3 | J13: 電機工程學系 | K13: 大學部 | L13: 上學期
E14: 計算機組織 | F14: CSIE2001 | G14: 3 | J14: 資訊工程學系 | K14: 大學部 | L14: 下學期
E15: 計算機結構 | F15: CSIE7211 | G15: 3 | J15: 資訊工程學系 | K15: 研究所 | L15: 上學期
E16: 計算機結構 | F16: CCE6513 | G16: 3 | J16: 電腦與通信工程研究所 | K16: 研究所 | L16: 上學期 | M16: 上次開課是106學年度
E17: 計算機組織與組合語言 | F17: ES3322 | G17: 3 | J17: 工程科學系 | K17: 大學部 | L17: 上學期
B18: 4 | C18: 積體電路設計自動化 | D18: 選 (二選一) | E18: 電子設計自動化導論 | F18: CSIE3015 | G18: 3 | J18: 資訊工程學系 | K18: 大學部 | L18: 下學期 | M18: 上次開課為102學年度
E19: 電子設計自動化 | F19: EE8615 | G19: 3 | J19: 電機工程學系 | K19: 研究所 | L19: 上學期 | M19: 上次開課為102學年度
E20: VLSI設計自動化專論 | F20: CSIE7137 | G20: 3 | J20: 資訊工程學系 | K20: 研究所 | L20: 下學期 | M20: 上次開課為108學年度
E21: VLSI SoC軟硬體共同設計 | F21: EE8631 | G21: 3 | J21: 電機工程學系 | K21: 研究所 | L21: 上學期
E22: 電子設計自動化概論 | F22: EE2870 | G22: 3 | J22: 電機工程學系 | K22: 大學部 | L22: 上學期
E23: 數位通訊之積體電路設計專論 | F23: EE6451 | G23: 3 | J23: 電機工程學系 | K23: 研究所 | L23: 上學期
B24: 5 | C24: 實體設計自動化 | E24: 奈米積體電路實體設計 | F24: EE6652 | G24: 3 | J24: 電機工程學系 | K24: 研究所 | L24: 上學期

Sheet 合併
B1: # | C1: 學程科目名稱 | D1: 學程訂定 必/選修 | E1: 採認課程名稱 | F1: 採認課程代碼 | G1: 學分數 | H1: 修畢課程 (打V) | I1: 分數 (百分制) | J1: 開課系/所 | K1: 課程程度 (下拉選單) | L1: 開課學期 (下拉選單) | M1: =VLOOKUP(E1,[1]晶片設計!$B:$B,1,0) -> 採認課程名稱
B2: 1 | C2: 電子學 (數位電路設計) | D2: 必 | E2: 電子學(二) | F2: EE2320 | G2: 3 | J2: 電機工程學系 | K2: 大學部 | L2: 下學期 | M2: =VLOOKUP(E2,[1]晶片設計!$B:$B,1,0) -> #N/A
E3: 電子學(三) | F3: EE3130 | G3: 3 | I3: V | J3: 電機工程學系 | K3: 大學部 | L3: 上學期 | M3: =VLOOKUP(E3,[1]晶片設計!$B:$B,1,0) -> #N/A
E4: 電子學 | F4: ES2214 | G4: 3 | J4: 工程科學系 | K4: 大學部 | L4: 下學期 | M4: =VLOOKUP(E4,[1]晶片設計!$B:$B,1,0) -> #N/A
E5: 電子電路 | F5: ES2222 | G5: 3 | J5: 工程科學系 | K5: 大學部 | L5: 上學期 | M5: =VLOOKUP(E5,[1]晶片設計!$B:$B,1,0) -> #N/A
E6: 電子學(二) | F6: DSP2002 | G6: 3 | J6: 光電科學與工程學系 | K6: 大學部 | L6: 下學期 | M6: =VLOOKUP(E6,[1]晶片設計!$B:$B,1,0) -> #N/A
E7: 電子學(二) | F7: SNME2312 | G7: 3 | J7: 系統及船舶機電工程學系 | K7: 大學部 | L7: 下學期 | M7: =VLOOKUP(E7,[1]晶片設計!$B:$B,1,0) -> #N/A
E8: 數位電路導論 | F8: CSIE1003 | G8: 3 | J8: 資訊工程學系 | K8: 大學部 | L8: 上學期 | M8: =VLOOKUP(E8,[1]晶片設計!$B:$B,1,0) -> #N/A
C9: 電子學 (電子設計自動化/設計流程) | D9: 必 | E9: 電子學(一) | F9: EE2110 | G9: 3 | J9: 電機工程學系 | K9: 大學部 | L9: 上學期 | M9: =VLOOKUP(E9,[1]晶片設計!$B:$B,1,0) -> #N/A
E10: 電路電子學 | F10: IBPE2104E | G10: 3 | J10: 航空太空工程學系 | K10: 大學部 | L10: 上學期 | M10: =VLOOKUP(E10,[1]晶片設計!$B:$B,1,0) -> #N/A
E11: 電子學(一) | F11: DSP2001 | G11: 3 | J11: 光電科學與工程學系 | K11: 大學部 | L11: 上學期 | M11: =VLOOKUP(E11,[1]晶片設計!$B:$B,1,0) -> #N/A
E12: 電子學(一) | F12: SNME2410 | G12: 3 | J12: 系統及船舶機電工程學系 | K12: 大學部 | L12: 上學期 | M12: =VLOOKUP(E12,[1]晶片設計!$B:$B,1,0) -> #N/A
B13: 2 | C13: 電路學 | D13: 必 | E13: 電路學(一) | F13: EE2310 | G13: 3 | I13: V | J13: 電機工程學系 | K13: 大學部 | L13: 上學期 | M13: =VLOOKUP(E13,[1]晶片設計!$B:$B,1,0) -> #N/A
E14: 電路學 | F14: DSP1015 | G14: 3 | J14: 光電科學與工程學系 | K14: 大學部 | L14: 下學期 | M14: =VLOOKUP(E14,[1]晶片設計!$B:$B,1,0) -> #N/A
E15: 電子電工學 | F15: MSE2002 | G15: 3 | J15: 材料科學及工程學系 | K15: 大學部 | L15: 上學期 | M15: =VLOOKUP(E15,[1]晶片設計!$B:$B,1,0) -> #N/A
E16: 電子及電工學 | F16: EV2203 | G16: 3 | J16: 環境工程學系 | K16: 大學部 | L16: 下學期 | M16: =VLOOKUP(E16,[1]晶片設計!$B:$B,1,0) -> #N/A
E17: 電子及電工學 | F17: CHE2009 | G17: 3 | J17: 化學工程學系 | K17: 大學部 | L17: 上學期 | M17: =VLOOKUP(E17,[1]晶片設計!$B:$B,1,0) -> #N/A
E18: 電路學(二) | F18: EE2320 | G18: 3 | J18: 電機工程學系 | K18: 大學部 | L18: 下學期 | M18: =VLOOKUP(E18,[1]晶片設計!$B:$B,1,0) -> #N/A
E19: 電路學 | F19: SNME2400 | G19: 3 | J19: 環境工程學系 | K19: 大學部 | L19: 上學期 | M19: =VLOOKUP(E19,[1]晶片設計!$B:$B,1,0) -> #N/A
E20: 電路電子學 | F20: IBPE2104E | G20: 3 | J20: 能源工程國際學位學程 | K20: 大學部 | L20: 上學期 | M20: =VLOOKUP(E20,[1]晶片設計!$B:$B,1,0) -> #N/A
E21: 電路學 | F21: BME2301 | G21: 3 | J21: 生物醫學工程學系 | K21: 大學部 | L21: 上學期 | M21: =VLOOKUP(E21,[1]晶片設計!$B:$B,1,0) -> #N/A
E22: 電路學 | F22: ES2211 | G22: 3 | J22: 工程科學系 | K22: 大學部 | L22: 上學期 | M22: =VLOOKUP(E22,[1]晶片設計!$B:$B,1,0) -> #N/A
E23: 電工學 | F23: ME2600 | G23: 2 | J23: 機械工程學系 | K23: 大學部 | L23: 下學期 | M23: =VLOOKUP(E23,[1]晶片設計!$B:$B,1,0) -> #N/A
B24: 3 | C24: 邏輯設計 | D24: 必 | E24: 邏輯系統 | F24: EE1500 | G24: 3 | I24: V | J24: 電機工程學系 | K24: 大學部 | L24: 下學期 | M24: =VLOOKUP(E24,[1]晶片設計!$B:$B,1,0) -> #N/A
E25: 數位系統導論 | F25: CSIE1007 | G25: 3 | J25: 資訊工程學系 | K25: 大學部 | L25: 上學期 | M25: =VLOOKUP(E25,[1]晶片設計!$B:$B,1,0) -> #N/A
E26: 邏輯設計 | F26: ES2212 | G26: 3 | J26: 工程科學系 | K26: 大學部 | L26: 下學期 | M26: =VLOOKUP(E26,[1]晶片設計!$B:$B,1,0) -> #N/A
B27: 4 | C27: 積體電路設計導論/ 超大型積體電路設計 | D27: 必 | E27: 數位積體電路設計 | F27: ES7837 | G27: 3 | J27: 工程科學系 | K27: 研究所 | L27: 下學期 | M27: =VLOOKUP(E27,[1]晶片設計!$B:$B,1,0) -> #N/A
E28: 數位通訊之積體電路設計專論 | F28: EE6451 | G28: 3 | J28: 電機工程學系 | K28: 研究所 | L28: 上學期 | M28: =VLOOKUP(E28,[1]晶片設計!$B:$B,1,0) -> 數位通訊之積體電路設計專論
E29: VLSI系統設計 | F29: EE9612 | G29: 3 | J29: 電機工程學系 | K29: 研究所 | L29: 上學期 | M29: =VLOOKUP(E29,[1]晶片設計!$B:$B,1,0) -> VLSI系統設計
E30: VLSI系統設計 | F30: EE5650 | G30: 3 | J30: 電機工程學系 | K30: 大學部 | L30: 上學期 | M30: =VLOOKUP(E30,[1]晶片設計!$B:$B,1,0) -> VLSI系統設計
E31: 超大型積體電路電腦輔助設計概論 | F31: EE5600 | G31: 3 | J31: 電機工程學系 | K31: 大學部 | L31: 下學期 | M31: =VLOOKUP(E31,[1]晶片設計!$B:$B,1,0) -> #N/A
E32: 高等VLSI電路設計 | F32: EE7615 | G32: 3 | J32: 電機工程學系 | K32: 研究所 | L32: 上學期 | M32: =VLOOKUP(E32,[1]晶片設計!$B:$B,1,0) -> #N/A
E33: 超大型積體電路概論 | F33: CSIE7131E | G33: 3 | J33: 資訊工程學系 | K33: 研究所 | L33: 上學期 | M33: =VLOOKUP(E33,[1]晶片設計!$B:$B,1,0) -> #N/A
E34: VLSI電路設計 | F34: EE5670 | G34: 3 | J34: 電機工程學系 | K34: 大學部 | L34: 下學期 | M34: =VLOOKUP(E34,[1]晶片設計!$B:$B,1,0) -> #N/A
B35: 5 | C35: 機率/統計學 | D35: 必 | E35: 機率與統計 | F35: EE2420 | G35: 3 | I35: V | J35: 電機工程學系 | K35: 大學部 | L35: 上學期 | M35: =VLOOKUP(E35,[1]晶片設計!$B:$B,1,0) -> #N/A
E36: 機率與統計 | F36: CSIE3002 | G36: 3 | J36: 資訊工程學系 | K36: 大學部 | L36: 下學期 | M36: =VLOOKUP(E36,[1]晶片設計!$B:$B,1,0) -> #N/A
E37: 機率與統計 | F37: ES3250 | G37: 3 | J37: 工程科學系 | K37: 大學部 | L37: 下學期 | M37: =VLOOKUP(E37,[1]晶片設計!$B:$B,1,0) -> #N/A
B38: 1 | C38: 計算機結構 | D38: 選 | E38: 計算機組織 | F38: EE2510 | G38: 3 | I38: V | J38: 電機工程學系 | K38: 大學部 | L38: 上學期 | M38: =VLOOKUP(E38,[1]晶片設計!$B:$B,1,0) -> #N/A
E39: 計算機組織 | F39: CSIE2001 | G39: 3 | J39: 資訊工程學系 | K39: 大學部 | L39: 下學期 | M39: =VLOOKUP(E39,[1]晶片設計!$B:$B,1,0) -> #N/A
E40: 計算機結構 | F40: CCE6513 | G40: 3 | J40: 電腦與通信工程研究所 | K40: 研究所 | L40: 上學期 | M40: =VLOOKUP(E40,[1]晶片設計!$B:$B,1,0) -> #N/A
E41: 微算機原理與應用(含實驗) | F41: CSIE3009 | G41: 3 | J41: 資訊工程學系 | K41: 大學部 | L41: 上學期 | M41: =VLOOKUP(E41,[1]晶片設計!$B:$B,1,0) -> #N/A
E42: 計算機組織與組合語言 | F42: ES3322 | G42: 3 | J42: 工程科學系 | K42: 大學部 | L42: 上學期 | M42: =VLOOKUP(E42,[1]晶片設計!$B:$B,1,0) -> #N/A
B43: 2 | C43: 積體電路設計實驗 | D43: 選 | E43: 超大型積體電路電腦輔助設計概論 | F43: EE5600 | G43: 3 | I43: V | J43: 電機工程學系 | K43: 大學部 | L43: 下學期 | M43: =VLOOKUP(E43,[1]晶片設計!$B:$B,1,0) -> #N/A
E44: 生醫積體電路設計 | F44: EE9712 | G44: 3 | J44: 電機工程學系 | K44: 研究所 | L44: 下學期 | M44: =VLOOKUP(E44,[1]晶片設計!$B:$B,1,0) -> 生醫積體電路設計
B45: 3 | C45: 數位系統設計 | D45: 選 | E45: 編譯系統 | F45: CSIE4008 | G45: 3 | I45: V | J45: 資訊工程學系 | K45: 大學部 | L45: 下學期 | M45: =VLOOKUP(E45,[1]晶片設計!$B:$B,1,0) -> #N/A
E46: 數位IC設計 | F46: CSIE7019 | G46: 3 | J46: 資訊工程學系 | K46: 研究所 | L46: 上學期 | M46: =VLOOKUP(E46,[1]晶片設計!$B:$B,1,0) -> 數位IC設計
E47: VLSI系統設計 | F47: EE9612 | G47: 3 | J47: 電機工程學系 | K47: 研究所 | L47: 上學期 | M47: =VLOOKUP(E47,[1]晶片設計!$B:$B,1,0) -> VLSI系統設計
E48: VLSI系統設計 | F48: EE5650 | G48: 3 | J48: 電機工程學系 | K48: 大學部 | L48: 上學期 | M48: =VLOOKUP(E48,[1]晶片設計!$B:$B,1,0) -> VLSI系統設計
E49: 進階數位電路設計專論 | F49: CSIE7057 | G49: 3 | J49: 資訊工程學系 | K49: 研究所 | L49: 上學期 | M49: =VLOOKUP(E49,[1]晶片設計!$B:$B,1,0) -> #N/A
E50: 數位通訊之積體電路設計專論 | F50: EE6451 | G50: 3 | J50: 電機工程學系 | K50: 研究所 | L50: 上學期 | M50: =VLOOKUP(E50,[1]晶片設計!$B:$B,1,0) -> 數位通訊之積體電路設計專論
B51: 4 | C51: 內嵌式記憶體電路設計 | D51: 選 | E51: 嵌入式系統 | F51: BME3301 | G51: 3 | J51: 生物醫學工程學系 | K51: 大學部 | L51: 下學期 | M51: =VLOOKUP(E51,[1]晶片設計!$B:$B,1,0) -> #N/A
B52: 5 | C52: 超大型積體電路測試 | D52: 選 | E52: 超大型積體電路測試 | F52: EE7631 | G52: 3 | J52: 電機工程學系 | K52: 研究所 | L52: 上學期 | M52: =VLOOKUP(E52,[1]晶片設計!$B:$B,1,0) -> 超大型積體電路測試
B53: 1 | C53: 資料結構 | D53: 選 (三選二) | E53: 資料結構續論 | F53: EE2510 | G53: 3 | J53: 電機工程學系 | K53: 大學部 | L53: 下學期 | M53: =VLOOKUP(E53,[1]晶片設計!$B:$B,1,0) -> #N/A
E54: 資料結構 | F54: CSIE1006 | G54: 3 | J54: 資訊工程學系 | K54: 大學部 | L54: 上學期 | M54: =VLOOKUP(E54,[1]晶片設計!$B:$B,1,0) -> #N/A
E55: 資料結構 | F55: ES2221 | G55: 3 | J55: 工程科學系 | K55: 大學部 | L55: 上學期 | M55: =VLOOKUP(E55,[1]晶片設計!$B:$B,1,0) -> #N/A
B56: 2 | C56: 演算法 | E56: 演算法 | F56: CSIE3003 | G56: 3 | J56: 資訊工程學系 | K56: 大學部 | L56: 下學期 | M56: =VLOOKUP(E56,[1]晶片設計!$B:$B,1,0) -> #N/A
E57: 高等演算法 | F57: CSIE4012 | G57: 3 | J57: 資訊工程學系 | K57: 大學部 | L57: 下學期 | M57: =VLOOKUP(E57,[1]晶片設計!$B:$B,1,0) -> #N/A
E58: 高等計算機演算理論 | F58: CCE9533 | G58: 3 | J58: 電腦與通信工程研究所 | K58: 研究所 | L58: 上學期 | M58: =VLOOKUP(E58,[1]晶片設計!$B:$B,1,0) -> #N/A
E59: 進階演算法 | F59: CSIE6809 | G59: 3 | J59: 電機工程學系 | K59: 研究所 | L59: 下學期 | M59: =VLOOKUP(E59,[1]晶片設計!$B:$B,1,0) -> #N/A
E60: 計算機演算法 | F60: ES3420 | G60: 3 | J60: 工程科學系 | K60: 大學部 | L60: 上學期 | M60: =VLOOKUP(E60,[1]晶片設計!$B:$B,1,0) -> #N/A
B61: 3 | C61: 計算機結構 | E61: 微算機原理與應用(含實驗) | F61: CSIE3009 | G61: 3 | J61: 資訊工程學系 | K61: 大學部 | L61: 上學期 | M61: =VLOOKUP(E61,[1]晶片設計!$B:$B,1,0) -> #N/A
E62: 計算機組織 | F62: EE2510 | G62: 3 | J62: 電機工程學系 | K62: 大學部 | L62: 上學期 | M62: =VLOOKUP(E62,[1]晶片設計!$B:$B,1,0) -> #N/A
E63: 計算機組織 | F63: CSIE2001 | G63: 3 | J63: 資訊工程學系 | K63: 大學部 | L63: 下學期 | M63: =VLOOKUP(E63,[1]晶片設計!$B:$B,1,0) -> #N/A
E64: 計算機結構 | F64: CSIE7211 | G64: 3 | J64: 資訊工程學系 | K64: 研究所 | L64: 上學期 | M64: =VLOOKUP(E64,[1]晶片設計!$B:$B,1,0) -> #N/A
E65: 計算機結構 | F65: CCE6513 | G65: 3 | J65: 電腦與通信工程研究所 | K65: 研究所 | L65: 上學期 | M65: =VLOOKUP(E65,[1]晶片設計!$B:$B,1,0) -> #N/A
E66: 計算機組織與組合語言 | F66: ES3322 | G66: 3 | J66: 工程科學系 | K66: 大學部 | L66: 上學期 | M66: =VLOOKUP(E66,[1]晶片設計!$B:$B,1,0) -> #N/A
B67: 4 | C67: 積體電路設計自動化 | D67: 選 (二選一) | E67: 電子設計自動化導論 | F67: CSIE3015 | G67: 3 | J67: 資訊工程學系 | K67: 大學部 | L67: 下學期 | M67: =VLOOKUP(E67,[1]晶片設計!$B:$B,1,0) -> #N/A
E68: 電子設計自動化 | F68: EE8615 | G68: 3 | J68: 電機工程學系 | K68: 研究所 | L68: 上學期 | M68: =VLOOKUP(E68,[1]晶片設計!$B:$B,1,0) -> #N/A
E69: VLSI設計自動化專論 | F69: CSIE7137 | G69: 3 | J69: 資訊工程學系 | K69: 研究所 | L69: 下學期 | M69: =VLOOKUP(E69,[1]晶片設計!$B:$B,1,0) -> #N/A
E70: VLSI SoC軟硬體共同設計 | F70: EE8631 | G70: 3 | J70: 電機工程學系 | K70: 研究所 | L70: 上學期 | M70: =VLOOKUP(E70,[1]晶片設計!$B:$B,1,0) -> #N/A
E71: 電子設計自動化概論 | F71: EE2870 | G71: 3 | J71: 電機工程學系 | K71: 大學部 | L71: 上學期 | M71: =VLOOKUP(E71,[1]晶片設計!$B:$B,1,0) -> #N/A
E72: 數位通訊之積體電路設計專論 | F72: EE6451 | G72: 3 | J72: 電機工程學系 | K72: 研究所 | L72: 上學期 | M72: =VLOOKUP(E72,[1]晶片設計!$B:$B,1,0) -> 數位通訊之積體電路設計專論
B73: 5 | C73: 實體設計自動化 | E73: 奈米積體電路實體設計 | F73: EE6652 | G73: 3 | J73: 電機工程學系 | K73: 研究所 | L73: 上學期 | M73: =VLOOKUP(E73,[1]晶片設計!$B:$B,1,0) -> 奈米積體電路實體設計
