Workbook

Sheet 元件開發類
B1: 請勾選修畢之採認課程項目，並填入成績，填妥後請選擇：檔案> 列印> 印表機> Microsoft Print to PDF，儲存成PDF格式檔案。
B2: 元件開發類 (必修12學分/選修15學分)
B3: # | C3: 學程科目名稱 | D3: 學程訂定 必/選修 | E3: 採認課程名稱 | F3: 採認課程代碼 | G3: 學分數 | H3: 修畢課程 (打V) | I3: 分數 (百分制) | J3: 開課系/所 | K3: 課程程度 (下拉選單) | L3: 開課學期 (下拉選單)
B4: 1 | C4: 半導體元件物理 | D4: 必 | E4: 半導體元件 | F4: EE5110 | G4: 3 | J4: 電機系 | K4: 大學部 | L4: 上
E5: 半導體物理 | F5: PHYS3111 | J5: 物理系 | L5: 下
E6: 半導體材料及元件理論 | F6: MSE5041 | J6: 材料系/材料所 | K6: 大學部/研究所 | L6: 上
E7: ULSI元件物理 | F7: IME6142 | J7: 微電所 | K7: 研究所 | L7: 上
E8: 高等半導體物理及元件 | F8: DPS9002 | J8: 光電所 | L8: 下
E9: 半導體元件物理 | F9: IME6154 | J9: 微電子所 | L9: 上
F10: DPS6003 | J10: 光電所 | L10: 上
E11: 半導體與光電化學原理 | F11: CHE7003 | J11: 化工所 | L11: 上
B12: 2 | C12: 固態物理導論 | D12: 必 | E12: 固態物理 | F12: EE4120 | G12: 3 | J12: 電機系 | K12: 大學部 | L12: 上
E13: 固態物理 | F13: DPS7006 | J13: 光電所 | K13: 研究所 | L13: 上
E14: 固態物理(一) | F14: PHYS8269E | J14: 物理所 | L14: 上
E15: 固態物理(二) | F15: PHYS8224 | J15: 物理所 | L15: 下
E16: 固態物理導論 | F16: PHYS3142 | J16: 物理系 | K16: 大學部 | L16: 上
B17: 3 | C17: 電路學 | D17: 必 | E17: 電路學 | F17: DPS1015 | G17: 3 | J17: 光電系 | K17: 大學部 | L17: 上
F18: ES2211 | J18: 工科系 | L18: 上
F19: SNME2400 | J19: 系統系 | L19: 上
F20: BME2301 | J20: 醫工系 | L20: 上
E21: 電路學(一) | F21: EE2310 | J21: 電機系 | L21: 上
E22: 電路學(二) | F22: EE2320 | J22: 電機系 | L22: 下
B23: 4 | C23: 工程數學二 | D23: 必 | E23: 工程數學二 | F23: EE2062 | G23: 3 | J23: 電機系 | K23: 大學部 | L23: 下
F24: ME2101 | J24: 機械系 | L24: 下
F25: MSE2004 | J25: 材料系 | L25: 下
F26: RE2002 | J26: 資源系 | L26: 下
F27: CE2004 | J27: 土木系 | L27: 下
F28: HOE2002 | J28: 水利系 | L28: 下
F29: ES2252 | J29: 工科系 | L29: 下
F30: IBPE2107E | J30: 能源學程 | L30: 下
F31: SYS2402 | J31: 系統系 | L31: 下
F32: AA2002 | J32: 航太系 | L32: 下
F33: EV2201 | J33: 環工系 | L33: 下
F34: GM2120 | J34: 測量系 | L34: 下
F35: EARS2203 | J35: 地科系 | L35: 下
... F38: DPS2003 | J38: 光電系 | L38: 上
E39: 物理數學二 | F39: PHYS2117 | G39: 3 | J39: 物理系 | L39: 上
B40: 5 | C40: 量子力學導論 | D40: 選 | E40: 量子物理學 | F40: EE2160 | G40: 3 | J40: 電機系 | K40: 大學部 | L40: 下
E41: 量子物理(一) | F41: PHYS3123 | J41: 物理系 | L41: 上
E42: 量子物理(二) | F42: PHYS3124 | J42: 物理系 | L42: 下
E43: 量子力學(一) | F43: PHYS6116E | J43: 物理所 | K43: 研究所 | L43: 上
E44: 量子力學(二) | F44: PHYS6114E | J44: 物理所 | L44: 下
E45: 量子物理導論 | F45: MSE2009 | J45: 材料系 | K45: 大學部 | L45: 上
E46: 量子物理 | F46: DPS7032 | J46: 光電所 | K46: 研究所 | L46: 下
B47: 6 | C47: 半導體元件設計與模擬 | D47: 選 | E47: 半導體元件模擬分析 | F47: EE6133 | G47: 3 | J47: 電機所 | K47: 研究所 | L47: 下
B48: 7 | C48: 元件量測 | D48: 選 | E48: 光電量測技術 | F48: DPS7015 | G48: 3 | J48: 光電所 | K48: 研究所 | L48: 下
E49: 電子與奈米材料分析 | F49: NICE6050 | J49: 奈積碩博學程 | L49: 上
B50: 8 | C50: 半導體記憶體 | D50: 選 | E50: 半導體記憶體元件與設計實務 | F50: IME7101 | G50: 3 | J50: 微電所 | K50: 研究所 | L50: 上
B51: 9 | C51: 神經形態運算與AI應用 | D51: 選 | E51: 類神經網路簡介 | F51: EE8242 | J51: 電機所 | L51: 上

Sheet 製程整合類
B1: 請勾選修畢之採認課程項目，並填入成績，填妥後請選擇：檔案> 列印> 印表機> Microsoft Print to PDF，儲存成PDF格式檔案。
B2: 製程整合類 (必修24學分/選修15學分)
B3: # | C3: 學程科目名稱 | D3: 學程訂定 必/選修 | E3: 採認課程名稱 | F3: 採認課程代碼 | G3: 學分數 | H3: 修畢課程 (打V) | I3: 分數 (百分制) | J3: 開課系/所 | K3: 課程程度 (下拉選單) | L3: 開課學期 (下拉選單)
B4: 1 | C4: 半導體製程 | D4: 必 | E4: 半導體製程 | F4: IME7113 | G4: 3 | J4: 微電所 | K4: 研究所 | L4: 上
B5: 1 | E5: 半導體製程技術 | F5: ES7412 | J5: 工科所 | L5: 下
B6: 1 | E6: 奈米製程技術 | F6: DPS7017 | J6: 光電所 | L6: 下
E7: 奈米製程技術與實作 | F7: ES7414 | J7: 工科所 | L7: 上
E8: 奈米技術概論 | F8: ME7118 | J8: 機械所 | L8: 下
B9: 1 | E9: 半導體元件製作技術 | F9: DPS3004 | J9: 光電系 | K9: 大學部 | L9: 下
B10: 1 | E10: 半導體材料與製程 | F10: CHE3321 | J10: 化工系 | L10: 下
B11: 1 | E11: 微奈米元件製程與設計 | F11: MSE5058 | J11: 材料系 | L11: 上
B12: 2 | C12: 電子學一 | D12: 必 | E12: 電子學一 | F12: EE2110 | G12: 3 | J12: 電機系 | K12: 大學部 | L12: 上
B13: 1 | F13: DPS2001 | J13: 光電系 | L13: 上
B14: 1 | F14: SNME2410 | J14: 系統系 | L14: 上
B15: 1 | E15: 電子學 | F15: ME3601 | G15: 3 | J15: 機械系 | K15: 大學部 | L15: 上
B16: 1 | F16: ES2214 | J16: 工科系 | L16: 下
B17: 3 | C17: 電子學二 | D17: 必 | E17: 電子學二 | F17: EE2120 | G17: 3 | J17: 電機系 | K17: 大學部 | L17: 下
B18: 1 | F18: DPS2002 | J18: 光電系 | L18: 下
B19: 4 | C19: 電磁學 | D19: 必 | E19: 電磁學一 | F19: EE3430 | G19: 3 | J19: 電機系 | K19: 大學部 | L19: 上
B20: 1 | F20: PHYS2125 | J20: 物理系 | L20: 上
B21: 1 | F21: DPS2005 | J21: 光電系 | L21: 上
B22: 1 | E22: 電磁理論 | F22: DPS7023 | G22: 3 | J22: 光電所 | K22: 研究所 | L22: 上
B23: 1 | E23: 電磁學 | F23: AA3003 | G23: 3 | J23: 航太系 | K23: 大學部 | L23: 下
B24: 1 | E24: 工程電磁學 | F24: ES3342 | G24: 3 | J24: 工科系 | L24: 上
B25: 5 | C25: 積體電路設計導論 | D25: 必 | E25: 超大型積體電路電腦輔助設計概論 | F25: EE5600 | G25: 3 | J25: 電機系 | K25: 大學部 | L25: 下
B26: 1 | E26: 類比積體電路設計 | F26: EE6621 | J26: 電機所 | K26: 研究所 | L26: 上
B27: 1 | E27: 高等類比積體電路設計 | F27: EE6653 | J27: 電機所 | L27: 下
B28: 6 | C28: 微電子工程 | D28: 必 | E28: 半導體元件、應用和可靠度 | F28: IME6330 | G28: 3 | J28: 微電所 | K28: 研究所 | L28: 下
B29: 1 | E29: 奈米世代半導體製程概論 | F29: IME6145 | J29: 微電所 | L29: 下
B30: 7 | C30: 實驗設計與統計應用 | D30: 必 | E30: 工程統計和概論 | F30: ME3123 | G30: 3 | J30: 機械系 | K30: 大學部 | L30: 下
E31: 機率與統計 | F31: EE2420 | J31: 電機系 | L31: 上
B32: 1 | E32: 隨機動態數據分析與處理 | F32: ME7101 | J32: 機械所 | K32: 研究所 | L32: 上
B33: 1 | E33: 模擬與統計計算 | F33: CCE7502 | J33: 電通所 | L33: 上
B34: 8 | C34: 電子薄膜科技 | D34: 必 (二選一) | E34: 薄膜工程 | F34: MSE5018 | G34: 3 | J34: 材料所 | K34: 研究所 | L34: 上/下
B35: 1 | E35: 厚膜工程 | F35: EE7013 | J35: 電機所 | L35: 下
B36: 9 | C36: 電漿工程應用 | E36: 電漿現象之應用 | F36: SAPS7032 | G36: 3 | J36: 電漿所 | K36: 研究所 | L36: 下
B37: 1 | E37: 電漿基礎理論與實作 | F37: COS5009 | G37: 1 | J37: 理科院研究所 | L37: 上
B38: 10 | C38: 應用光電子學 | D38: 選 | E38: 半導體光學 | F38: IME6132 | G38: 3 | J38: 微電所 | K38: 研究所 | L38: 上
B39: 1 | E39: 積體光學 | F39: IME6134 | J39: 微電所 | L39: 上
B40: 1 | E40: 光電子學(一) | F40: DPS6001 | J40: 光電所 | L40: 上
B41: 1 | E41: 材料光學 | F41: DPS5003 | J41: 光電所 | L41: 上
B42: 1 | E42: 矽積體光子學導論 | F42: DPS7047 | J42: 光電所 | L42: 下
B43: 1 | E43: 光電子學(二) | F43: DPS6002 | J43: 光電所 | L43: 下
E44: 光電元件物理 | F44: IME6133 | J44: 微電所 | L44: 下
E45: 光電半導體物理與元件 | F45: IME6158 | J45: 微電所 | L45: 上
E46: 光電子學導論(一) | F46: DPS3010 | J46: 光電系 | K46: 大學部 | L46: 上
E47: 光電子學導論(二) | F47: DPS3012 | J47: 光電系 | L47: 下
B48: 1 | E48: 光電與半導體概論 | F48: EE5150 | J48: 電機系 | L48: 下
B49: 1 | E49: 光電材料導論 | F49: MSE3007 | J49: 材料系 | L49: 下
B50: 11 | C50: 半導體感測器實務技術 | D50: 選 | E50: 半導體感測器實務技術 | F50: NICE6502 | G50: 3 | J50: 奈積碩博學程 | K50: 研究所 | L50: 上
B51: 12 | C51: 先進製程整合特論 | D51: 選 | E51: 半導體及先進奈米化製程技術概論1 | F51: IME6310 | G51: 3 | J51: 微電所 | K51: 研究所 | L51: 上
B52: 1 | E52: 半導體及先進奈米化製程技術概論2 | F52: IME6320 | J52: 微電所 | L52: 下
B53: 13 | C53: 固態熱力學 | D53: 選 | E53: 固態熱力學 | F53: EE7021 | G53: 3 | J53: 電機所 | K53: 研究所 | L53: 下
B54: 14 | C54: 微機電製程技術 | D54: 選 | E54: 微機電元件設計與製程導論 | F54: EE7704 | G54: 3 | J54: 電機所 | K54: 研究所 | L54: 上
B55: 1 | E55: 微機電製程技術 | F55: ES7531 | J55: 工科所 | L55: 上
B56: 1 | E56: 微機電系統分析 | F56: MSE7043 | J56: 材料所 | L56: 下
B57: 1 | E57: 微機電系統技術與整合 | F57: ME7117 | J57: 機械所 | L57: 上

Sheet 材料分析類
B1: 請勾選修畢之採認課程項目，並填入成績，填妥後請選擇：檔案> 列印> 印表機> Microsoft Print to PDF，儲存成PDF格式檔案。
B2: 材料分析類 (必修3學分/選修3學分)
B3: # | C3: 學程科目名稱 | D3: 學程訂定 必/選修 | E3: 採認課程名稱 | F3: 採認課程代碼 | G3: 學分數 | H3: 修畢課程 (打V) | I3: 分數 (百分制) | J3: 開課系/所 | K3: 課程程度 (下拉選單) | L3: 開課學期 (下拉選單)
B4: 1 | C4: 材料分析與檢測 | D4: 必 | E4: 材料分析 | F4: MSE2001 | G4: 3 | J4: 材料系 | K4: 大學部 | L4: 上
F5: DPS7043 | J5: 光電所 | K5: 研究所 | L5: 下
E6: 晶體結構與材料分析 | F6: EE8013 | G6: 3 | J6: 電機所 | L6: 上
E7: 高等材料分析 | F7: MSE7060 | G7: 3 | J7: 材料所 | L7: 上
B8: 2 | C8: 同調光及電子繞射顯微術 | D8: 選 | E8: 高解析式電子顯微鏡 | F8: MSE5043 | G8: 3 | J8: 材料所 | K8: 研究所 | L8: 下
E9: 傅氏光學 | F9: DPS7001 | J9: 光電所 | L9: 上
E10: 顯微術 | F10: DPS7025 | J10: 光電所 | L10: 上

Sheet 合併
B1: # | C1: 學程科目名稱 | D1: 學程訂定 必/選修 | E1: 採認課程名稱 | F1: 採認課程代碼 | G1: 學分數 | H1: 修畢課程 (打V) | I1: 分數 (百分制) | J1: 開課系/所 | K1: 課程程度 (下拉選單) | L1: 開課學期 (下拉選單) | M1: 半導體製程 | N1: 半導體封測 | O1: =VLOOKUP(E1,[1]關鍵材料!$B:$B,1,0) -> 採認課程名稱
B2: 1 | C2: 半導體元件物理 | D2: 必 | E2: 半導體元件 | F2: EE5110 | G2: 3 | J2: 電機系 | K2: 大學部 | L2: 上 | M2: #N/A | N2: #N/A | O2: =VLOOKUP(E2,[1]關鍵材料!$B:$B,1,0) -> #N/A
E3: 半導體物理 | F3: PHYS3111 | J3: 物理系 | L3: 下 | M3: #N/A | N3: #N/A | O3: =VLOOKUP(E3,[1]關鍵材料!$B:$B,1,0) -> #N/A
E4: 半導體材料及元件理論 | F4: MSE5041 | J4: 材料系/材料所 | K4: 大學部/研究所 | L4: 上 | M4: 半導體材料及元件理論 | N4: 半導體材料及元件理論 | O4: =VLOOKUP(E4,[1]關鍵材料!$B:$B,1,0) -> #N/A
E5: ULSI元件物理 | F5: IME6142 | J5: 微電所 | K5: 研究所 | L5: 上 | M5: ULSI元件物理 | N5: #N/A | O5: =VLOOKUP(E5,[1]關鍵材料!$B:$B,1,0) -> #N/A
E6: 高等半導體物理及元件 | F6: DPS9002 | J6: 光電所 | L6: 下 | M6: #N/A | N6: #N/A | O6: =VLOOKUP(E6,[1]關鍵材料!$B:$B,1,0) -> #N/A
E7: 半導體元件物理 | F7: IME6154 | J7: 微電子所 | L7: 上 | M7: 半導體元件物理 | N7: #N/A | O7: =VLOOKUP(E7,[1]關鍵材料!$B:$B,1,0) -> 半導體元件物理
F8: DPS6003 | J8: 光電所 | L8: 上 | M8: #N/A | N8: #N/A | O8: =VLOOKUP(E8,[1]關鍵材料!$B:$B,1,0) -> #N/A
E9: 半導體與光電化學原理 | F9: CHE7003 | J9: 化工所 | L9: 上 | M9: #N/A | N9: #N/A | O9: =VLOOKUP(E9,[1]關鍵材料!$B:$B,1,0) -> 半導體與光電化學原理
B10: 2 | C10: 固態物理導論 | D10: 必 | E10: 固態物理 | F10: EE4120 | G10: 3 | J10: 電機系 | K10: 大學部 | L10: 上 | M10: #N/A | N10: #N/A | O10: =VLOOKUP(E10,[1]關鍵材料!$B:$B,1,0) -> 固態物理
E11: 固態物理 | F11: DPS7006 | J11: 光電所 | K11: 研究所 | L11: 上 | M11: #N/A | N11: #N/A | O11: =VLOOKUP(E11,[1]關鍵材料!$B:$B,1,0) -> 固態物理
E12: 固態物理(一) | F12: PHYS8269E | J12: 物理所 | L12: 上 | M12: #N/A | N12: #N/A | O12: =VLOOKUP(E12,[1]關鍵材料!$B:$B,1,0) -> #N/A
E13: 固態物理(二) | F13: PHYS8224 | J13: 物理所 | L13: 下 | M13: #N/A | N13: #N/A | O13: =VLOOKUP(E13,[1]關鍵材料!$B:$B,1,0) -> #N/A
E14: 固態物理導論 | F14: PHYS3142 | J14: 物理系 | K14: 大學部 | L14: 上 | M14: #N/A | N14: #N/A | O14: =VLOOKUP(E14,[1]關鍵材料!$B:$B,1,0) -> #N/A
B15: 3 | C15: 電路學 | D15: 必 | E15: 電路學 | F15: DPS1015 | G15: 3 | J15: 光電系 | K15: 大學部 | L15: 上 | M15: #N/A | N15: #N/A | O15: =VLOOKUP(E15,[1]關鍵材料!$B:$B,1,0) -> #N/A
F16: ES2211 | J16: 工科系 | L16: 上 | M16: #N/A | N16: #N/A | O16: =VLOOKUP(E16,[1]關鍵材料!$B:$B,1,0) -> #N/A
F17: SNME2400 | J17: 系統系 | L17: 上 | M17: #N/A | N17: #N/A | O17: =VLOOKUP(E17,[1]關鍵材料!$B:$B,1,0) -> #N/A
F18: BME2301 | J18: 醫工系 | L18: 上 | M18: #N/A | N18: #N/A | O18: =VLOOKUP(E18,[1]關鍵材料!$B:$B,1,0) -> #N/A
E19: 電路學(一) | F19: EE2310 | J19: 電機系 | L19: 上 | M19: #N/A | N19: #N/A | O19: =VLOOKUP(E19,[1]關鍵材料!$B:$B,1,0) -> #N/A
E20: 電路學(二) | F20: EE2320 | J20: 電機系 | L20: 下 | M20: #N/A | N20: #N/A | O20: =VLOOKUP(E20,[1]關鍵材料!$B:$B,1,0) -> #N/A
B21: 4 | C21: 工程數學二 | D21: 必 | E21: 工程數學二 | F21: EE2062 | G21: 3 | J21: 電機系 | K21: 大學部 | L21: 下 | M21: #N/A | N21: #N/A | O21: =VLOOKUP(E21,[1]關鍵材料!$B:$B,1,0) -> #N/A
F22: ME2101 | J22: 機械系 | L22: 下 | M22: #N/A | N22: #N/A | O22: =VLOOKUP(E22,[1]關鍵材料!$B:$B,1,0) -> #N/A
F23: MSE2004 | J23: 材料系 | L23: 下 | M23: #N/A | N23: #N/A | O23: =VLOOKUP(E23,[1]關鍵材料!$B:$B,1,0) -> #N/A
F24: RE2002 | J24: 資源系 | L24: 下 | M24: #N/A | N24: #N/A | O24: =VLOOKUP(E24,[1]關鍵材料!$B:$B,1,0) -> #N/A
F25: CE2004 | J25: 土木系 | L25: 下 | M25: #N/A | N25: #N/A | O25: =VLOOKUP(E25,[1]關鍵材料!$B:$B,1,0) -> #N/A
F26: HOE2002 | J26: 水利系 | L26: 下 | M26: #N/A | N26: #N/A | O26: =VLOOKUP(E26,[1]關鍵材料!$B:$B,1,0) -> #N/A
F27: ES2252 | J27: 工科系 | L27: 下 | M27: #N/A | N27: #N/A | O27: =VLOOKUP(E27,[1]關鍵材料!$B:$B,1,0) -> #N/A
F28: IBPE2107E | J28: 能源學程 | L28: 下 | M28: #N/A | N28: #N/A | O28: =VLOOKUP(E28,[1]關鍵材料!$B:$B,1,0) -> #N/A
F29: SYS2402 | J29: 系統系 | L29: 下 | M29: #N/A | N29: #N/A | O29: =VLOOKUP(E29,[1]關鍵材料!$B:$B,1,0) -> #N/A
F30: AA2002 | J30: 航太系 | L30: 下 | M30: #N/A | N30: #N/A | O30: =VLOOKUP(E30,[1]關鍵材料!$B:$B,1,0) -> #N/A
F31: EV2201 | J31: 環工系 | L31: 下 | M31: #N/A | N31: #N/A | O31: =VLOOKUP(E31,[1]關鍵材料!$B:$B,1,0) -> #N/A
F32: GM2120 | J32: 測量系 | L32: 下 | M32: #N/A | N32: #N/A | O32: =VLOOKUP(E32,[1]關鍵材料!$B:$B,1,0) -> #N/A
F33: EARS2203 | J33: 地科系 | L33: 下 | M33: #N/A | N33: #N/A | O33: =VLOOKUP(E33,[1]關鍵材料!$B:$B,1,0) -> #N/A
... F36: DPS2003 | J36: 光電系 | L36: 上 | M36: #N/A | N36: #N/A | O36: =VLOOKUP(E36,[1]關鍵材料!$B:$B,1,0) -> #N/A
E37: 物理數學二 | F37: PHYS2117 | G37: 3 | J37: 物理系 | L37: 上 | M37: #N/A | N37: #N/A | O37: =VLOOKUP(E37,[1]關鍵材料!$B:$B,1,0) -> #N/A
B38: 5 | C38: 量子力學導論 | D38: 選 | E38: 量子物理學 | F38: EE2160 | G38: 3 | J38: 電機系 | K38: 大學部 | L38: 下 | M38: #N/A | N38: #N/A | O38: =VLOOKUP(E38,[1]關鍵材料!$B:$B,1,0) -> #N/A
E39: 量子物理(一) | F39: PHYS3123 | J39: 物理系 | L39: 上 | M39: #N/A | N39: #N/A | O39: =VLOOKUP(E39,[1]關鍵材料!$B:$B,1,0) -> #N/A
E40: 量子物理(二) | F40: PHYS3124 | J40: 物理系 | L40: 下 | M40: #N/A | N40: #N/A | O40: =VLOOKUP(E40,[1]關鍵材料!$B:$B,1,0) -> #N/A
E41: 量子力學(一) | F41: PHYS6116E | J41: 物理所 | K41: 研究所 | L41: 上 | M41: #N/A | N41: #N/A | O41: =VLOOKUP(E41,[1]關鍵材料!$B:$B,1,0) -> 量子力學(一)
E42: 量子力學(二) | F42: PHYS6114E | J42: 物理所 | L42: 下 | M42: #N/A | N42: #N/A | O42: =VLOOKUP(E42,[1]關鍵材料!$B:$B,1,0) -> #N/A
E43: 量子物理導論 | F43: MSE2009 | J43: 材料系 | K43: 大學部 | L43: 上 | M43: #N/A | N43: #N/A | O43: =VLOOKUP(E43,[1]關鍵材料!$B:$B,1,0) -> #N/A
E44: 量子物理 | F44: DPS7032 | J44: 光電所 | K44: 研究所 | L44: 下 | M44: #N/A | N44: #N/A | O44: =VLOOKUP(E44,[1]關鍵材料!$B:$B,1,0) -> 量子物理
B45: 6 | C45: 半導體元件設計與模擬 | D45: 選 | E45: 半導體元件模擬分析 | F45: EE6133 | G45: 3 | J45: 電機所 | K45: 研究所 | L45: 下 | M45: 半導體元件模擬分析 | N45: #N/A | O45: =VLOOKUP(E45,[1]關鍵材料!$B:$B,1,0) -> #N/A
B46: 7 | C46: 元件量測 | D46: 選 | E46: 光電量測技術 | F46: DPS7015 | G46: 3 | J46: 光電所 | K46: 研究所 | L46: 下 | M46: #N/A | N46: #N/A | O46: =VLOOKUP(E46,[1]關鍵材料!$B:$B,1,0) -> #N/A
E47: 電子與奈米材料分析 | F47: NICE6050 | J47: 奈積碩博學程 | L47: 上 | M47: #N/A | N47: #N/A | O47: =VLOOKUP(E47,[1]關鍵材料!$B:$B,1,0) -> #N/A
B48: 8 | C48: 半導體記憶體 | D48: 選 | E48: 半導體記憶體元件與設計實務 | F48: IME7101 | G48: 3 | J48: 微電所 | K48: 研究所 | L48: 上 | M48: 半導體記憶體元件與設計實務 | N48: #N/A | O48: =VLOOKUP(E48,[1]關鍵材料!$B:$B,1,0) -> #N/A
B49: 9 | C49: 神經形態運算與AI應用 | D49: 選 | E49: 類神經網路簡介 | F49: EE8242 | J49: 電機所 | L49: 上 | M49: #N/A | N49: #N/A | O49: =VLOOKUP(E49,[1]關鍵材料!$B:$B,1,0) -> #N/A
B50: 1 | C50: 半導體製程 | D50: 必 | E50: 半導體製程 | F50: IME7113 | G50: 3 | J50: 微電所 | K50: 研究所 | L50: 上 | M50: 半導體製程 | N50: #N/A | O50: =VLOOKUP(E50,[1]關鍵材料!$B:$B,1,0) -> #N/A
B51: 1 | E51: 半導體製程技術 | F51: ES7412 | J51: 工科所 | L51: 下 | M51: #N/A | N51: #N/A | O51: =VLOOKUP(E51,[1]關鍵材料!$B:$B,1,0) -> #N/A
B52: 1 | E52: 奈米製程技術 | F52: DPS7017 | J52: 光電所 | L52: 下 | M52: #N/A | N52: #N/A | O52: =VLOOKUP(E52,[1]關鍵材料!$B:$B,1,0) -> 奈米製程技術
E53: 奈米製程技術與實作 | F53: ES7414 | J53: 工科所 | L53: 上 | M53: #N/A | N53: #N/A | O53: =VLOOKUP(E53,[1]關鍵材料!$B:$B,1,0) -> #N/A
E54: 奈米技術概論 | F54: ME7118 | J54: 機械所 | L54: 下 | M54: #N/A | N54: #N/A | O54: =VLOOKUP(E54,[1]關鍵材料!$B:$B,1,0) -> #N/A
B55: 1 | E55: 半導體元件製作技術 | F55: DPS3004 | J55: 光電系 | K55: 大學部 | L55: 下 | M55: #N/A | N55: #N/A | O55: =VLOOKUP(E55,[1]關鍵材料!$B:$B,1,0) -> #N/A
B56: 1 | E56: 半導體材料與製程 | F56: CHE3321 | J56: 化工系 | L56: 下 | M56: #N/A | N56: #N/A | O56: =VLOOKUP(E56,[1]關鍵材料!$B:$B,1,0) -> #N/A
B57: 1 | E57: 微奈米元件製程與設計 | F57: MSE5058 | J57: 材料系 | L57: 上 | M57: 微奈米元件製程與設計 | N57: 微奈米元件製程與設計 | O57: =VLOOKUP(E57,[1]關鍵材料!$B:$B,1,0) -> #N/A
B58: 2 | C58: 電子學一 | D58: 必 | E58: 電子學一 | F58: EE2110 | G58: 3 | J58: 電機系 | K58: 大學部 | L58: 上 | M58: #N/A | N58: #N/A | O58: =VLOOKUP(E58,[1]關鍵材料!$B:$B,1,0) -> #N/A
B59: 1 | F59: DPS2001 | J59: 光電系 | L59: 上 | M59: #N/A | N59: #N/A | O59: =VLOOKUP(E59,[1]關鍵材料!$B:$B,1,0) -> #N/A
B60: 1 | F60: SNME2410 | J60: 系統系 | L60: 上 | M60: #N/A | N60: #N/A | O60: =VLOOKUP(E60,[1]關鍵材料!$B:$B,1,0) -> #N/A
B61: 1 | E61: 電子學 | F61: ME3601 | G61: 3 | J61: 機械系 | K61: 大學部 | L61: 上 | M61: #N/A | N61: #N/A | O61: =VLOOKUP(E61,[1]關鍵材料!$B:$B,1,0) -> #N/A
B62: 1 | F62: ES2214 | J62: 工科系 | L62: 下 | M62: #N/A | N62: #N/A | O62: =VLOOKUP(E62,[1]關鍵材料!$B:$B,1,0) -> #N/A
B63: 3 | C63: 電子學二 | D63: 必 | E63: 電子學二 | F63: EE2120 | G63: 3 | J63: 電機系 | K63: 大學部 | L63: 下 | M63: #N/A | N63: #N/A | O63: =VLOOKUP(E63,[1]關鍵材料!$B:$B,1,0) -> #N/A
B64: 1 | F64: DPS2002 | J64: 光電系 | L64: 下 | M64: #N/A | N64: #N/A | O64: =VLOOKUP(E64,[1]關鍵材料!$B:$B,1,0) -> #N/A
B65: 4 | C65: 電磁學 | D65: 必 | E65: 電磁學一 | F65: EE3430 | G65: 3 | J65: 電機系 | K65: 大學部 | L65: 上 | M65: #N/A | N65: #N/A | O65: =VLOOKUP(E65,[1]關鍵材料!$B:$B,1,0) -> #N/A
B66: 1 | F66: PHYS2125 | J66: 物理系 | L66: 上 | M66: #N/A | N66: #N/A | O66: =VLOOKUP(E66,[1]關鍵材料!$B:$B,1,0) -> #N/A
B67: 1 | F67: DPS2005 | J67: 光電系 | L67: 上 | M67: #N/A | N67: #N/A | O67: =VLOOKUP(E67,[1]關鍵材料!$B:$B,1,0) -> #N/A
B68: 1 | E68: 電磁理論 | F68: DPS7023 | G68: 3 | J68: 光電所 | K68: 研究所 | L68: 上 | M68: #N/A | N68: #N/A | O68: =VLOOKUP(E68,[1]關鍵材料!$B:$B,1,0) -> #N/A
B69: 1 | E69: 電磁學 | F69: AA3003 | G69: 3 | J69: 航太系 | K69: 大學部 | L69: 下 | M69: #N/A | N69: #N/A | O69: =VLOOKUP(E69,[1]關鍵材料!$B:$B,1,0) -> #N/A
B70: 1 | E70: 工程電磁學 | F70: ES3342 | G70: 3 | J70: 工科系 | L70: 上 | M70: #N/A | N70: #N/A | O70: =VLOOKUP(E70,[1]關鍵材料!$B:$B,1,0) -> #N/A
B71: 5 | C71: 積體電路設計導論 | D71: 必 | E71: 超大型積體電路電腦輔助設計概論 | F71: EE5600 | G71: 3 | J71: 電機系 | K71: 大學部 | L71: 下 | M71: #N/A | N71: #N/A | O71: =VLOOKUP(E71,[1]關鍵材料!$B:$B,1,0) -> #N/A
B72: 1 | E72: 類比積體電路設計 | F72: EE6621 | J72: 電機所 | K72: 研究所 | L72: 上 | M72: #N/A | N72: #N/A | O72: =VLOOKUP(E72,[1]關鍵材料!$B:$B,1,0) -> #N/A
B73: 1 | E73: 高等類比積體電路設計 | F73: EE6653 | J73: 電機所 | L73: 下 | M73: #N/A | N73: #N/A | O73: =VLOOKUP(E73,[1]關鍵材料!$B:$B,1,0) -> #N/A
B74: 6 | C74: 微電子工程 | D74: 必 | E74: 半導體元件、應用和可靠度 | F74: IME6330 | G74: 3 | J74: 微電所 | K74: 研究所 | L74: 下 | M74: #N/A | N74: #N/A | O74: =VLOOKUP(E74,[1]關鍵材料!$B:$B,1,0) -> #N/A
B75: 1 | E75: 奈米世代半導體製程概論 | F75: IME6145 | J75: 微電所 | L75: 下 | M75: 奈米世代半導體製程概論 | N75: #N/A | O75: =VLOOKUP(E75,[1]關鍵材料!$B:$B,1,0) -> #N/A
B76: 7 | C76: 實驗設計與統計應用 | D76: 必 | E76: 工程統計和概論 | F76: ME3123 | G76: 3 | J76: 機械系 | K76: 大學部 | L76: 下 | M76: #N/A | N76: #N/A | O76: =VLOOKUP(E76,[1]關鍵材料!$B:$B,1,0) -> #N/A
E77: 機率與統計 | F77: EE2420 | J77: 電機系 | L77: 上 | M77: #N/A | N77: #N/A | O77: =VLOOKUP(E77,[1]關鍵材料!$B:$B,1,0) -> #N/A
B78: 1 | E78: 隨機動態數據分析與處理 | F78: ME7101 | J78: 機械所 | K78: 研究所 | L78: 上 | M78: #N/A | N78: #N/A | O78: =VLOOKUP(E78,[1]關鍵材料!$B:$B,1,0) -> #N/A
B79: 1 | E79: 模擬與統計計算 | F79: CCE7502 | J79: 電通所 | L79: 上 | M79: #N/A | N79: #N/A | O79: =VLOOKUP(E79,[1]關鍵材料!$B:$B,1,0) -> #N/A
B80: 8 | C80: 電子薄膜科技 | D80: 必 (二選一) | E80: 薄膜工程 | F80: MSE5018 | G80: 3 | J80: 材料所 | K80: 研究所 | L80: 上/下 | M80: #N/A | N80: 薄膜工程 | O80: =VLOOKUP(E80,[1]關鍵材料!$B:$B,1,0) -> #N/A
B81: 1 | E81: 厚膜工程 | F81: EE7013 | J81: 電機所 | L81: 下 | M81: #N/A | N81: #N/A | O81: =VLOOKUP(E81,[1]關鍵材料!$B:$B,1,0) -> #N/A
B82: 9 | C82: 電漿工程應用 | E82: 電漿現象之應用 | F82: SAPS7032 | G82: 3 | J82: 電漿所 | K82: 研究所 | L82: 下 | M82: #N/A | N82: #N/A | O82: =VLOOKUP(E82,[1]關鍵材料!$B:$B,1,0) -> 電漿現象之應用
B83: 1 | E83: 電漿基礎理論與實作 | F83: COS5009 | G83: 1 | J83: 理科院研究所 | L83: 上 | M83: #N/A | N83: #N/A | O83: =VLOOKUP(E83,[1]關鍵材料!$B:$B,1,0) -> #N/A
B84: 10 | C84: 應用光電子學 | D84: 選 | E84: 半導體光學 | F84: IME6132 | G84: 3 | J84: 微電所 | K84: 研究所 | L84: 上 | M84: 半導體光學 | N84: #N/A | O84: =VLOOKUP(E84,[1]關鍵材料!$B:$B,1,0) -> #N/A
B85: 1 | E85: 積體光學 | F85: IME6134 | J85: 微電所 | L85: 上 | M85: #N/A | N85: #N/A | O85: =VLOOKUP(E85,[1]關鍵材料!$B:$B,1,0) -> #N/A
B86: 1 | E86: 光電子學(一) | F86: DPS6001 | J86: 光電所 | L86: 上 | M86: #N/A | N86: #N/A | O86: =VLOOKUP(E86,[1]關鍵材料!$B:$B,1,0) -> #N/A
B87: 1 | E87: 材料光學 | F87: DPS5003 | J87: 光電所 | L87: 上 | M87: #N/A | N87: #N/A | O87: =VLOOKUP(E87,[1]關鍵材料!$B:$B,1,0) -> 材料光學
B88: 1 | E88: 矽積體光子學導論 | F88: DPS7047 | J88: 光電所 | L88: 下 | M88: #N/A | N88: #N/A | O88: =VLOOKUP(E88,[1]關鍵材料!$B:$B,1,0) -> #N/A
B89: 1 | E89: 光電子學(二) | F89: DPS6002 | J89: 光電所 | L89: 下 | M89: #N/A | N89: #N/A | O89: =VLOOKUP(E89,[1]關鍵材料!$B:$B,1,0) -> #N/A
E90: 光電元件物理 | F90: IME6133 | J90: 微電所 | L90: 下 | M90: 光電元件物理 | N90: #N/A | O90: =VLOOKUP(E90,[1]關鍵材料!$B:$B,1,0) -> #N/A
E91: 光電半導體物理與元件 | F91: IME6158 | J91: 微電所 | L91: 上 | M91: 光電半導體物理與元件 | N91: #N/A | O91: =VLOOKUP(E91,[1]關鍵材料!$B:$B,1,0) -> #N/A
E92: 光電子學導論(一) | F92: DPS3010 | J92: 光電系 | K92: 大學部 | L92: 上 | M92: #N/A | N92: #N/A | O92: =VLOOKUP(E92,[1]關鍵材料!$B:$B,1,0) -> #N/A
E93: 光電子學導論(二) | F93: DPS3012 | J93: 光電系 | L93: 下 | M93: #N/A | N93: #N/A | O93: =VLOOKUP(E93,[1]關鍵材料!$B:$B,1,0) -> #N/A
B94: 1 | E94: 光電與半導體概論 | F94: EE5150 | J94: 電機系 | L94: 下 | M94: #N/A | N94: #N/A | O94: =VLOOKUP(E94,[1]關鍵材料!$B:$B,1,0) -> #N/A
B95: 1 | E95: 光電材料導論 | F95: MSE3007 | J95: 材料系 | L95: 下 | M95: #N/A | N95: #N/A | O95: =VLOOKUP(E95,[1]關鍵材料!$B:$B,1,0) -> #N/A
B96: 11 | C96: 半導體感測器實務技術 | D96: 選 | E96: 半導體感測器實務技術 | F96: NICE6502 | G96: 3 | J96: 奈積碩博學程 | K96: 研究所 | L96: 上 | M96: 半導體感測器實務技術 | N96: #N/A | O96: =VLOOKUP(E96,[1]關鍵材料!$B:$B,1,0) -> #N/A
B97: 12 | C97: 先進製程整合特論 | D97: 選 | E97: 半導體及先進奈米化製程技術概論1 | F97: IME6310 | G97: 3 | J97: 微電所 | K97: 研究所 | L97: 上 | M97: #N/A | N97: #N/A | O97: =VLOOKUP(E97,[1]關鍵材料!$B:$B,1,0) -> #N/A
B98: 1 | E98: 半導體及先進奈米化製程技術概論2 | F98: IME6320 | J98: 微電所 | L98: 下 | M98: #N/A | N98: #N/A | O98: =VLOOKUP(E98,[1]關鍵材料!$B:$B,1,0) -> #N/A
B99: 13 | C99: 固態熱力學 | D99: 選 | E99: 固態熱力學 | F99: EE7021 | G99: 3 | J99: 電機所 | K99: 研究所 | L99: 下 | M99: #N/A | N99: 固態熱力學 | O99: =VLOOKUP(E99,[1]關鍵材料!$B:$B,1,0) -> #N/A
B100: 14 | C100: 微機電製程技術 | D100: 選 | E100: 微機電元件設計與製程導論 | F100: EE7704 | G100: 3 | J100: 電機所 | K100: 研究所 | L100: 上 | M100: #N/A | N100: #N/A | O100: =VLOOKUP(E100,[1]關鍵材料!$B:$B,1,0) -> #N/A
B101: 1 | E101: 微機電製程技術 | F101: ES7531 | J101: 工科所 | L101: 上 | M101: #N/A | N101: #N/A | O101: =VLOOKUP(E101,[1]關鍵材料!$B:$B,1,0) -> #N/A
B102: 1 | E102: 微機電系統分析 | F102: MSE7043 | J102: 材料所 | L102: 下 | M102: #N/A | N102: #N/A | O102: =VLOOKUP(E102,[1]關鍵材料!$B:$B,1,0) -> #N/A
...
